BEGIN:VCALENDAR
VERSION:2.0
PRODID:-//wp-events-plugin.com//6.6.3//EN
TZID:Europe/Rome
X-WR-TIMEZONE:Europe/Rome
BEGIN:VEVENT
UID:0-27@villazzano.diocesitn.it
DTSTART;TZID=Europe/Rome:20250418T203000
DTEND;TZID=Europe/Rome:20250418T203000
DTSTAMP:20250413T084812Z
URL:https://villazzano.diocesitn.it/events/celebrazione-della-passione-e-m
 orte-del-signore/
SUMMARY:Celebrazione della passione e morte del Signore
DESCRIPTION:Colletta a favore delle opere in Terra Santa
CATEGORIES:Celebrazioni
END:VEVENT
BEGIN:VTIMEZONE
TZID:Europe/Rome
X-LIC-LOCATION:Europe/Rome
BEGIN:DAYLIGHT
DTSTART:20250330T030000
TZOFFSETFROM:+0100
TZOFFSETTO:+0200
TZNAME:CEST
END:DAYLIGHT
END:VTIMEZONE
END:VCALENDAR