BEGIN:VCALENDAR
VERSION:2.0
PRODID:-//wp-events-plugin.com//6.6.3//EN
TZID:Europe/Rome
X-WR-TIMEZONE:Europe/Rome
BEGIN:VEVENT
UID:0-28@villazzano.diocesitn.it
DTSTART;TZID=Europe/Rome:20250419T210000
DTEND;TZID=Europe/Rome:20250419T210000
DTSTAMP:20250413T084935Z
URL:https://villazzano.diocesitn.it/events/veglia-pasquale/
SUMMARY:Veglia Pasquale
DESCRIPTION:Pasqua “Risurrezione del Signore”
CATEGORIES:Celebrazioni
END:VEVENT
BEGIN:VTIMEZONE
TZID:Europe/Rome
X-LIC-LOCATION:Europe/Rome
BEGIN:DAYLIGHT
DTSTART:20250330T030000
TZOFFSETFROM:+0100
TZOFFSETTO:+0200
TZNAME:CEST
END:DAYLIGHT
END:VTIMEZONE
END:VCALENDAR